BEGIN:VCALENDAR
VERSION:2.0
PRODID:-//wp-events-plugin.com//7.0.5//EN
TZID:America/Los_Angeles
X-WR-TIMEZONE:America/Los_Angeles
BEGIN:VEVENT
UID:3@californiacraftbeer.com
DTSTART;TZID=America/Los_Angeles:20250718T110000
DTEND;TZID=America/Los_Angeles:20250718T220000
DTSTAMP:20250627T210924Z
URL:https://californiacraftbeer.com/ccbw-event-calendar/california-pint-da
 y-benefitting-the-ccba/
SUMMARY:California Pint Day Benefitting the CCBA
DESCRIPTION:Join us and many breweries around the state as we kick off Cali
 fornia Craft Beer Week with California Pint Day! All RRBC beers will be av
 ailable in the limited edition commemorate Pint Day glass which you get to
  keep. In addition to donating $2/glass purchased\, we will be throwing in
  an extra 5% of the day's total food and beverage sales to the CCBA! Calif
 ornia Pint Day will be celebrated at both our Windsor and Santa Rosa locat
 ions. Thank you for helping us support our beloved craft beer state trade 
 association\, the CCBA!
ATTACH;FMTTYPE=image/jpeg:https://californiacraftbeer.com/wp-content/uploa
 ds/2025/06/rrbc-ccba-pintday-event-01-01.png
CATEGORIES:California Pint Day
LOCATION:Russian River Brewing Company\, 700 Mitchell Lane\, Windsor\, CA\,
  95492\, United States
GEO:38.532074;-122.799427
X-APPLE-STRUCTURED-LOCATION;VALUE=URI;X-ADDRESS=700 Mitchell Lane\, Windsor
 \, CA\, 95492\, United States;X-APPLE-RADIUS=100;X-TITLE=Russian River Bre
 wing Company:geo:38.532074,-122.799427
END:VEVENT
BEGIN:VTIMEZONE
TZID:America/Los_Angeles
X-LIC-LOCATION:America/Los_Angeles
BEGIN:DAYLIGHT
DTSTART:20250309T030000
TZOFFSETFROM:-0800
TZOFFSETTO:-0700
TZNAME:PDT
END:DAYLIGHT
END:VTIMEZONE
END:VCALENDAR