BEGIN:VCALENDAR
VERSION:2.0
PRODID:-//wp-events-plugin.com//7.0.5//EN
TZID:America/Los_Angeles
X-WR-TIMEZONE:America/Los_Angeles
BEGIN:VEVENT
UID:7@californiacraftbeer.com
DTSTART;TZID=America/Los_Angeles:20250719T100000
DTEND;TZID=America/Los_Angeles:20250719T220000
DTSTAMP:20250701T201721Z
URL:https://californiacraftbeer.com/ccbw-event-calendar/pride-at-pure-balb
 oa-park/
SUMMARY:Pride at Pure Balboa Park
DESCRIPTION:San Diego Pride Parade (July 19th):\nOn Saturday\, July 19\, Pu
 re Project Balboa Park will be opening an hour early at 10am! Come grab a 
 beer and hangout with us. The parade begins at 10am.\nThere will also be a
  pride-themed specialty slushie available at the taproom (while supplies l
 ast)! Click here to see more details.\nWe look forward to seeing you!
ATTACH;FMTTYPE=image/jpeg:https://californiacraftbeer.com/wp-content/uploa
 ds/2025/07/1800x500_PrideatPureBalboaPark.jpg
CATEGORIES:Other
LOCATION:Pure Project Balboa Park\, 2865 5th Avenue\, San Diego\, Californi
 a\, 92103\, United States
GEO:32.735239;-117.160055
X-APPLE-STRUCTURED-LOCATION;VALUE=URI;X-ADDRESS=2865 5th Avenue\, San Diego
 \, California\, 92103\, United States;X-APPLE-RADIUS=100;X-TITLE=Pure Proj
 ect Balboa Park:geo:32.735239,-117.160055
END:VEVENT
BEGIN:VTIMEZONE
TZID:America/Los_Angeles
X-LIC-LOCATION:America/Los_Angeles
BEGIN:DAYLIGHT
DTSTART:20250309T030000
TZOFFSETFROM:-0800
TZOFFSETTO:-0700
TZNAME:PDT
END:DAYLIGHT
END:VTIMEZONE
END:VCALENDAR